BEGIN:VCALENDAR
VERSION:2.0
PRODID:-//wp-events-plugin.com//7.2.3.1//EN
BEGIN:VEVENT
UID:4@schutzkonzepte.boja.at
DTSTART;TZID=Europe/Vienna:20250717T170000
DTEND;TZID=Europe/Vienna:20250717T183000
DTSTAMP:20250702T065159Z
URL:https://schutzkonzepte.boja.at/events/infovortrag-lehrgang-kinderschut
 zbeauftragter-in-kooperation-mit-einstieg/
SUMMARY:Infovortrag: Lehrgang Kinderschutz­beauftragte*r in Kooperation mi
 t Einstieg
DESCRIPTION:Orte\, an denen Kinder Zeit verbringen\, müssen gewaltfreie un
 d sichere Orte sein. Grenzverletzendes Verhalten\, Übergriffe und Gewalt 
 in all ihren Formen können jedoch überall dort passieren\, wo Erwachsene
  mit Kindern leben oder arbeiten. Manches geschieht aus Überforderung\, a
 nderes ist gezielt und geplant. Qualitätsstandards und Kinderschutzkonze
 pte sind deshalb kein „Nice to have“\, sondern ein „Must have“. Ki
 nderschutzbeauftragte oder Kinderschutzteams verfügen über spezielles Ki
 nderschutzwissen. Ihnen kommt eine wichtige Funktion als Lots*innen im Bes
 chwerde- oder Verdachtsfall zu.\n\nDieser Vortrag der Fachstelle Selbstbew
 usst informiert über den 4. Lehrgangsdurchgang ab dem 13.10.2025.\n\n 	ko
 stenfrei\n 	Einstieg direkt via Anmeldeformular\n
CATEGORIES:Vortrag
LOCATION:Online\, via\, Zoom\, Österreich
X-APPLE-STRUCTURED-LOCATION;VALUE=URI;X-ADDRESS=via\, Zoom\, Österreich;X-
 APPLE-RADIUS=100;X-TITLE=Online:geo:0,0
END:VEVENT
BEGIN:VTIMEZONE
TZID:Europe/Vienna
X-LIC-LOCATION:Europe/Vienna
BEGIN:DAYLIGHT
DTSTART:20250330T030000
TZOFFSETFROM:+0100
TZOFFSETTO:+0200
TZNAME:CEST
END:DAYLIGHT
END:VTIMEZONE
END:VCALENDAR