BEGIN:VCALENDAR
VERSION:2.0
PRODID:-//wp-events-plugin.com//7.2.3.1//EN
BEGIN:VEVENT
UID:20@schutzkonzepte.boja.at
DTSTART:20251215T080000Z
DTEND:20251215T160000Z
DTSTAMP:20250709T080511Z
URL:https://schutzkonzepte.boja.at/events/kinderschutzkonzept-praevention-
 und-interventionsmassnahmen/
SUMMARY:Kinderschutzkonzept: Prävention- und Interventionsmaßnahmen
DESCRIPTION:Dieses Seminar der möwe bietet eine Einführung zur Planung un
 d Umsetzung von strukturierten Präventionsmaßnahmen im Rahmen eines Kind
 erschutzkonzepts. Diese setzen auf unterschiedlichen Ebenen einer Organisa
 tion an\, mit dem Ziel\, jeder Gewaltform gegen Kinder und Jugendliche wir
 ksam vorzubeugen. Der Workshop bietet Euch einen Überblick zur Entwicklun
 g von Standards und Handlungsanweisungen zum Umgang mit kinderschutzreleva
 nten Beschwerden und (Verdachts-)Fällen von Gewalt im Rahmen eines instit
 utionellen Kinderschutzkonzeptes.\n\n 	Kosten: 180\,-\n 	Montag\, 9:00 - 1
 7:00 Uhr\n\n&nbsp\;
CATEGORIES:Workshop
LOCATION:die möwe Akademie\, Gonzagagasse 11/19\, Wien\, Wien\, Österreic
 h
X-APPLE-STRUCTURED-LOCATION;VALUE=URI;X-ADDRESS=Gonzagagasse 11/19\, Wien\,
  Wien\, Österreich;X-APPLE-RADIUS=100;X-TITLE=die möwe Akademie:geo:0,0
END:VEVENT
END:VCALENDAR